BEGIN:VCALENDAR
VERSION:2.0
PRODID:-//wp-events-plugin.com//7.2.2.1//EN
TZID:Europe/Amsterdam
X-WR-TIMEZONE:Europe/Amsterdam
BEGIN:VEVENT
UID:1702@dorpshuisgaastmeer.nl
DTSTART;TZID=Europe/Amsterdam:20250424T190000
DTEND;TZID=Europe/Amsterdam:20250424T234500
DTSTAMP:20250304T110355Z
URL:https://www.dorpshuisgaastmeer.nl/events/voorronden-3e-klas-driebanden
 -2/
SUMMARY:Voorronden 3e klas driebanden
DESCRIPTION:
END:VEVENT
BEGIN:VTIMEZONE
TZID:Europe/Amsterdam
X-LIC-LOCATION:Europe/Amsterdam
BEGIN:DAYLIGHT
DTSTART:20250330T030000
TZOFFSETFROM:+0100
TZOFFSETTO:+0200
TZNAME:CEST
END:DAYLIGHT
END:VTIMEZONE
END:VCALENDAR