BEGIN:VCALENDAR
VERSION:2.0
PRODID:-//wp-events-plugin.com//7.2.2.1//EN
TZID:Europe/Amsterdam
X-WR-TIMEZONE:Europe/Amsterdam
BEGIN:VEVENT
UID:1672@dorpshuisgaastmeer.nl
DTSTART;TZID=Europe/Amsterdam:20250307T200000
DTEND;TZID=Europe/Amsterdam:20250307T230000
DTSTAMP:20250108T090731Z
URL:https://www.dorpshuisgaastmeer.nl/events/voorjaarsvergadering-dorpsbel
 angen-2/
SUMMARY:Voorjaarsvergadering dorpsbelangen
DESCRIPTION:
END:VEVENT
BEGIN:VTIMEZONE
TZID:Europe/Amsterdam
X-LIC-LOCATION:Europe/Amsterdam
BEGIN:STANDARD
DTSTART:20241027T020000
TZOFFSETFROM:+0200
TZOFFSETTO:+0100
TZNAME:CET
END:STANDARD
END:VTIMEZONE
END:VCALENDAR