BEGIN:VCALENDAR
VERSION:2.0
PRODID:-//wp-events-plugin.com//7.2.2.1//EN
TZID:Europe/Amsterdam
X-WR-TIMEZONE:Europe/Amsterdam
BEGIN:VEVENT
UID:2303@dorpshuisgaastmeer.nl
DTSTART;TZID=Europe/Amsterdam:20260521T193000
DTEND;TZID=Europe/Amsterdam:20260521T213000
DTSTAMP:20260420T060356Z
URL:https://www.dorpshuisgaastmeer.nl/events/reanimatiecursus-2/
SUMMARY:Reanimatiecursus
DESCRIPTION:
END:VEVENT
BEGIN:VTIMEZONE
TZID:Europe/Amsterdam
X-LIC-LOCATION:Europe/Amsterdam
BEGIN:DAYLIGHT
DTSTART:20260329T030000
TZOFFSETFROM:+0100
TZOFFSETTO:+0200
TZNAME:CEST
END:DAYLIGHT
END:VTIMEZONE
END:VCALENDAR