BEGIN:VCALENDAR
VERSION:2.0
PRODID:-//wp-events-plugin.com//7.2.2.1//EN
TZID:Europe/Amsterdam
X-WR-TIMEZONE:Europe/Amsterdam
BEGIN:VEVENT
UID:1696@dorpshuisgaastmeer.nl
DTSTART;TZID=Europe/Amsterdam:20250411T200000
DTEND;TZID=Europe/Amsterdam:20250411T230000
DTSTAMP:20250222T100754Z
URL:https://www.dorpshuisgaastmeer.nl/events/ledenvergadering-fugelwacht-d
 e-gaastmar/
SUMMARY:Ledenvergadering Fûgelwacht de Gaastmar
DESCRIPTION:
END:VEVENT
BEGIN:VTIMEZONE
TZID:Europe/Amsterdam
X-LIC-LOCATION:Europe/Amsterdam
BEGIN:DAYLIGHT
DTSTART:20250330T030000
TZOFFSETFROM:+0100
TZOFFSETTO:+0200
TZNAME:CEST
END:DAYLIGHT
END:VTIMEZONE
END:VCALENDAR