BEGIN:VCALENDAR
VERSION:2.0
PRODID:-//wp-events-plugin.com//7.2.2.1//EN
TZID:Europe/Amsterdam
X-WR-TIMEZONE:Europe/Amsterdam
BEGIN:VEVENT
UID:210@dorpshuisgaastmeer.nl
DTSTART;TZID=Europe/Amsterdam:20230331T200000
DTEND;TZID=Europe/Amsterdam:20230331T223000
DTSTAMP:20230326T090023Z
URL:https://www.dorpshuisgaastmeer.nl/events/ledenvergadering-dorpsbelang/
SUMMARY:Ledenvergadering Vereniging van Dorpsbelangen Gaastmeer
DESCRIPTION:Agenda\n\n 	Welkom\n 	Mededelingen van het bestuur\n 	Notulen v
 oorjaarsledenvergadering 2022\n 	Jaarverslag 2022\n 	Aftredend algemeen be
 stuurslid Andre Wierstra (niet herkiesbaar)\, Aantredend bestuurslid Carol
 ine Schenkels\n 	Financieel jaarverslag Dorpsbelangen\n 	Verslag kascommis
 sie Dorpsbelangen + aanwijzen nieuwe kascommissie\n 	Financieel jaarversla
 g Praatmar\n 	Verslag kascommissie Praatmar + aanwijzen nieuwe kascommissi
 e\n 	Rondvraag\n 	Sluiting\n 	Update toekomst van het dorpshuis door het b
 estuur van Stichting Dorpshuis\n\n&nbsp\;\n\n&nbsp\;\n\n&nbsp\;\n\n&nbsp\;
 \n\n&nbsp\;\n\n&nbsp\;
LOCATION:Ûs Doarpshûs\, Munkedyk 15\, Gaastmeer\, Friesland\, 8611 JP\, N
 ederland
X-APPLE-STRUCTURED-LOCATION;VALUE=URI;X-ADDRESS=Munkedyk 15\, Gaastmeer\, F
 riesland\, 8611 JP\, Nederland;X-APPLE-RADIUS=100;X-TITLE=Ûs Doarpshûs:g
 eo:0,0
END:VEVENT
BEGIN:VTIMEZONE
TZID:Europe/Amsterdam
X-LIC-LOCATION:Europe/Amsterdam
BEGIN:DAYLIGHT
DTSTART:20230326T030000
TZOFFSETFROM:+0100
TZOFFSETTO:+0200
TZNAME:CEST
END:DAYLIGHT
END:VTIMEZONE
END:VCALENDAR