BEGIN:VCALENDAR
VERSION:2.0
PRODID:-//wp-events-plugin.com//7.2.2.1//EN
TZID:Europe/Amsterdam
X-WR-TIMEZONE:Europe/Amsterdam
BEGIN:VEVENT
UID:1167@dorpshuisgaastmeer.nl
DTSTART;TZID=Europe/Amsterdam:20231116T140000
DTEND;TZID=Europe/Amsterdam:20231116T170000
DTSTAMP:20231025T120315Z
URL:https://www.dorpshuisgaastmeer.nl/events/kwyk-middag-2023-11-16/
SUMMARY:Kwyk middag\, 17.00-19.00 maaltijdsoep avond
DESCRIPTION:
END:VEVENT
BEGIN:VTIMEZONE
TZID:Europe/Amsterdam
X-LIC-LOCATION:Europe/Amsterdam
BEGIN:STANDARD
DTSTART:20231029T020000
TZOFFSETFROM:+0200
TZOFFSETTO:+0100
TZNAME:CET
END:STANDARD
END:VTIMEZONE
END:VCALENDAR