BEGIN:VCALENDAR
VERSION:2.0
PRODID:-//wp-events-plugin.com//7.2.2.1//EN
TZID:Europe/Amsterdam
X-WR-TIMEZONE:Europe/Amsterdam
BEGIN:VEVENT
UID:1305@dorpshuisgaastmeer.nl
DTSTART;TZID=Europe/Amsterdam:20241219T140000
DTEND;TZID=Europe/Amsterdam:20241219T170000
DTSTAMP:20241112T094747Z
URL:https://www.dorpshuisgaastmeer.nl/events/kwyk-middag-2-2024-12-19/
SUMMARY:Kwyk middag
DESCRIPTION:Wekelijkse ontmoetings- en inspanningsmiddag voor belangstellen
 den in het vernieuwde dorpshuis.
END:VEVENT
BEGIN:VTIMEZONE
TZID:Europe/Amsterdam
X-LIC-LOCATION:Europe/Amsterdam
BEGIN:STANDARD
DTSTART:20241027T020000
TZOFFSETFROM:+0200
TZOFFSETTO:+0100
TZNAME:CET
END:STANDARD
END:VTIMEZONE
END:VCALENDAR