BEGIN:VCALENDAR
VERSION:2.0
PRODID:-//wp-events-plugin.com//7.2.2.1//EN
TZID:Europe/Amsterdam
X-WR-TIMEZONE:Europe/Amsterdam
BEGIN:VEVENT
UID:1291@dorpshuisgaastmeer.nl
DTSTART;TZID=Europe/Amsterdam:20241214T160000
DTEND;TZID=Europe/Amsterdam:20241214T234500
DTSTAMP:20241121T105254Z
URL:https://www.dorpshuisgaastmeer.nl/events/kerstmarkt/
SUMMARY:Kerstmarkt
DESCRIPTION:
END:VEVENT
BEGIN:VTIMEZONE
TZID:Europe/Amsterdam
X-LIC-LOCATION:Europe/Amsterdam
BEGIN:STANDARD
DTSTART:20241027T020000
TZOFFSETFROM:+0200
TZOFFSETTO:+0100
TZNAME:CET
END:STANDARD
END:VTIMEZONE
END:VCALENDAR