BEGIN:VCALENDAR
VERSION:2.0
PRODID:-//wp-events-plugin.com//7.2.2.1//EN
TZID:Europe/Amsterdam
X-WR-TIMEZONE:Europe/Amsterdam
BEGIN:VEVENT
UID:1271@dorpshuisgaastmeer.nl
DTSTART;TZID=Europe/Amsterdam:20240126T200000
DTEND;TZID=Europe/Amsterdam:20240126T230000
DTSTAMP:20231129T121905Z
URL:https://www.dorpshuisgaastmeer.nl/events/jaarvergadering-oranjeverenig
 ing/
SUMMARY:Jaarvergadering Oranjevereniging
DESCRIPTION:
END:VEVENT
BEGIN:VTIMEZONE
TZID:Europe/Amsterdam
X-LIC-LOCATION:Europe/Amsterdam
BEGIN:STANDARD
DTSTART:20231029T020000
TZOFFSETFROM:+0200
TZOFFSETTO:+0100
TZNAME:CET
END:STANDARD
END:VTIMEZONE
END:VCALENDAR