BEGIN:VCALENDAR
VERSION:2.0
PRODID:-//wp-events-plugin.com//7.2.2.1//EN
TZID:Europe/Amsterdam
X-WR-TIMEZONE:Europe/Amsterdam
BEGIN:VEVENT
UID:146@dorpshuisgaastmeer.nl
DTSTART;TZID=Europe/Amsterdam:20230227T200000
DTEND;TZID=Europe/Amsterdam:20230227T220000
DTSTAMP:20230222T162731Z
URL:https://www.dorpshuisgaastmeer.nl/events/jaarlijkse-skriezekritejun-we
 rkgroep-skriezekrite-idzegea/
SUMMARY:Jaarlijkse Skriezekritejûn Werkgroep Skriezekrite Idzegea
DESCRIPTION:\n\n\n\nWerkgroep Skriezekrite Idzegea nodigt hierbij boeren/de
 elnemers\, fûgelwachters\, jagers\, natuurbeheerders\, tellers en anders
  betrokkenen/geïnteresseerden uit voor het bijwonen van de jaarlijkse Sk
 riezekritejûn.\n\n\n\n
END:VEVENT
BEGIN:VTIMEZONE
TZID:Europe/Amsterdam
X-LIC-LOCATION:Europe/Amsterdam
BEGIN:STANDARD
DTSTART:20221030T020000
TZOFFSETFROM:+0200
TZOFFSETTO:+0100
TZNAME:CET
END:STANDARD
END:VTIMEZONE
END:VCALENDAR