BEGIN:VCALENDAR
VERSION:2.0
PRODID:-//wp-events-plugin.com//7.2.2.1//EN
TZID:Europe/Amsterdam
X-WR-TIMEZONE:Europe/Amsterdam
BEGIN:VEVENT
UID:145@dorpshuisgaastmeer.nl
DTSTART;TZID=Europe/Amsterdam:20230305T133000
DTEND;TZID=Europe/Amsterdam:20230305T170000
DTSTAMP:20230222T154401Z
URL:https://www.dorpshuisgaastmeer.nl/events/inloopmiddag-oer-de-gaastmar/
SUMMARY:Inloopmiddag Oer de Gaastmar
DESCRIPTION:Wurkgroep Oer de Gaastmar organiseert in het dorpshuis een inlo
 opmiddag. Toegang is gratis waarbij een donatie gevraagd voor de renovatie
  van het dorpshuis.
END:VEVENT
BEGIN:VTIMEZONE
TZID:Europe/Amsterdam
X-LIC-LOCATION:Europe/Amsterdam
BEGIN:STANDARD
DTSTART:20221030T020000
TZOFFSETFROM:+0200
TZOFFSETTO:+0100
TZNAME:CET
END:STANDARD
END:VTIMEZONE
END:VCALENDAR