BEGIN:VCALENDAR
VERSION:2.0
PRODID:-//wp-events-plugin.com//7.2.2.1//EN
TZID:Europe/Amsterdam
X-WR-TIMEZONE:Europe/Amsterdam
BEGIN:VEVENT
UID:1322@dorpshuisgaastmeer.nl
DTSTART;TZID=Europe/Amsterdam:20241022T190000
DTEND;TZID=Europe/Amsterdam:20241022T234500
DTSTAMP:20240910T122748Z
URL:https://www.dorpshuisgaastmeer.nl/events/herenbiljart-2024-10-22/
SUMMARY:Herenbiljart
DESCRIPTION:
END:VEVENT
BEGIN:VTIMEZONE
TZID:Europe/Amsterdam
X-LIC-LOCATION:Europe/Amsterdam
BEGIN:DAYLIGHT
DTSTART:20240331T030000
TZOFFSETFROM:+0100
TZOFFSETTO:+0200
TZNAME:CEST
END:DAYLIGHT
END:VTIMEZONE
END:VCALENDAR