BEGIN:VCALENDAR
VERSION:2.0
PRODID:-//wp-events-plugin.com//7.2.2.1//EN
TZID:Europe/Amsterdam
X-WR-TIMEZONE:Europe/Amsterdam
BEGIN:VEVENT
UID:1287@dorpshuisgaastmeer.nl
DTSTART;TZID=Europe/Amsterdam:20250124T190000
DTEND;TZID=Europe/Amsterdam:20250126T230000
DTSTAMP:20240923T152723Z
URL:https://www.dorpshuisgaastmeer.nl/events/finale-hoofdklasse-biljarten/
SUMMARY:Finale hoofdklasse biljarten
DESCRIPTION:
END:VEVENT
BEGIN:VTIMEZONE
TZID:Europe/Amsterdam
X-LIC-LOCATION:Europe/Amsterdam
BEGIN:STANDARD
DTSTART:20241027T020000
TZOFFSETFROM:+0200
TZOFFSETTO:+0100
TZNAME:CET
END:STANDARD
END:VTIMEZONE
END:VCALENDAR