BEGIN:VCALENDAR
VERSION:2.0
PRODID:-//wp-events-plugin.com//7.2.2.1//EN
TZID:Europe/Amsterdam
X-WR-TIMEZONE:Europe/Amsterdam
BEGIN:VEVENT
UID:1717@dorpshuisgaastmeer.nl
DTSTART;TZID=Europe/Amsterdam:20250517T103000
DTEND;TZID=Europe/Amsterdam:20250517T130000
DTSTAMP:20250327T102708Z
URL:https://www.dorpshuisgaastmeer.nl/events/excursie-agrarische-natuurver
 eniging-water-land-en-dijken/
SUMMARY:Excursie Agrarische natuurvereniging Water\, Land en Dijken
DESCRIPTION:
END:VEVENT
BEGIN:VTIMEZONE
TZID:Europe/Amsterdam
X-LIC-LOCATION:Europe/Amsterdam
BEGIN:DAYLIGHT
DTSTART:20250330T030000
TZOFFSETFROM:+0100
TZOFFSETTO:+0200
TZNAME:CEST
END:DAYLIGHT
END:VTIMEZONE
END:VCALENDAR