BEGIN:VCALENDAR
VERSION:2.0
PRODID:-//wp-events-plugin.com//7.2.2.1//EN
TZID:Europe/Amsterdam
X-WR-TIMEZONE:Europe/Amsterdam
BEGIN:VEVENT
UID:1284@dorpshuisgaastmeer.nl
DTSTART;TZID=Europe/Amsterdam:20240301T070000
DTEND;TZID=Europe/Amsterdam:20241001T234500
DTSTAMP:20240314T111140Z
URL:https://www.dorpshuisgaastmeer.nl/events/dorpshuis-gesloten-vanwege-ve
 rbouwing/
SUMMARY:Dorpshuis vanwege verbouwing tot oktober gesloten
DESCRIPTION:
END:VEVENT
BEGIN:VTIMEZONE
TZID:Europe/Amsterdam
X-LIC-LOCATION:Europe/Amsterdam
BEGIN:STANDARD
DTSTART:20231029T020000
TZOFFSETFROM:+0200
TZOFFSETTO:+0100
TZNAME:CET
END:STANDARD
BEGIN:DAYLIGHT
DTSTART:20240331T030000
TZOFFSETFROM:+0100
TZOFFSETTO:+0200
TZNAME:CEST
END:DAYLIGHT
END:VTIMEZONE
END:VCALENDAR