BEGIN:VCALENDAR
VERSION:2.0
PRODID:-//wp-events-plugin.com//7.2.2.1//EN
TZID:Europe/Amsterdam
X-WR-TIMEZONE:Europe/Amsterdam
BEGIN:VEVENT
UID:694@dorpshuisgaastmeer.nl
DTSTART;TZID=Europe/Amsterdam:20231228T193000
DTEND;TZID=Europe/Amsterdam:20231228T234500
DTSTAMP:20230909T110816Z
URL:https://www.dorpshuisgaastmeer.nl/events/dames-biljart-2-2023-12-28/
SUMMARY:Dames biljart/Heren biljart
DESCRIPTION:
END:VEVENT
BEGIN:VTIMEZONE
TZID:Europe/Amsterdam
X-LIC-LOCATION:Europe/Amsterdam
BEGIN:STANDARD
DTSTART:20231029T020000
TZOFFSETFROM:+0200
TZOFFSETTO:+0100
TZNAME:CET
END:STANDARD
END:VTIMEZONE
END:VCALENDAR