BEGIN:VCALENDAR
VERSION:2.0
PRODID:-//wp-events-plugin.com//7.2.2.1//EN
TZID:Europe/Amsterdam
X-WR-TIMEZONE:Europe/Amsterdam
BEGIN:VEVENT
UID:1557@dorpshuisgaastmeer.nl
DTSTART;TZID=Europe/Amsterdam:20250129T100000
DTEND;TZID=Europe/Amsterdam:20250129T120000
DTSTAMP:20241122T104833Z
URL:https://www.dorpshuisgaastmeer.nl/events/cursus-digisterker/
SUMMARY:Cursus DigiSterker
DESCRIPTION:De Bibliotheek organiseert de cursus DigiSterker. Tijdens de cu
 rsus kun je oefenen met het aanvragen en het gebruik van DigiD\, je persoo
 nlijke digitale toegang tot bijvoorbeeld de overheid\, de gemeente\, de be
 lastingdienst\, het UWV en het pensioenoverzicht. De cursus van vier dagde
 len helpt je de weg te vinden bij de digitale overheid.   \n\nElektronis
 che overheid\n\nDe overheid verwijst steeds meer naar haar digitale lokett
 en. Bijvoorbeeld voor het aanvragen van huurtoeslag\, het doen van belasti
 ngaangifte of het doorgeven van een verhuizing. Maar niet iedereen kan mee
 komen in het gebruik van de elektronische overheid. Het DigiSterker-progra
 mma brengt hierin verandering. \n\nWat leer je?\n\nIn vier lessen leer je
  hoe en waar je informatie vindt en hoe je iets aan kunt vragen\, bijvoorb
 eeld bij jouw gemeente.\n\nJe leert ook hoe DigiD aangevraagd en gebruikt 
 kan worden.\n\nAlles wordt stap-voor-stap uitgelegd\, je ontvangt een curs
 usboek en na afloop een certificaat.
END:VEVENT
BEGIN:VTIMEZONE
TZID:Europe/Amsterdam
X-LIC-LOCATION:Europe/Amsterdam
BEGIN:STANDARD
DTSTART:20241027T020000
TZOFFSETFROM:+0200
TZOFFSETTO:+0100
TZNAME:CET
END:STANDARD
END:VTIMEZONE
END:VCALENDAR