BEGIN:VCALENDAR
VERSION:2.0
PRODID:-//wp-events-plugin.com//7.2.2.1//EN
TZID:Europe/Amsterdam
X-WR-TIMEZONE:Europe/Amsterdam
BEGIN:VEVENT
UID:1236@dorpshuisgaastmeer.nl
DTSTART;TZID=Europe/Amsterdam:20231018T133000
DTEND;TZID=Europe/Amsterdam:20231018T170000
DTSTAMP:20230912T121817Z
URL:https://www.dorpshuisgaastmeer.nl/events/competitie-nea-tocht-2023-10-
 18/
SUMMARY:Competitie 'Nea Tocht'
DESCRIPTION:
END:VEVENT
BEGIN:VTIMEZONE
TZID:Europe/Amsterdam
X-LIC-LOCATION:Europe/Amsterdam
BEGIN:DAYLIGHT
DTSTART:20230326T030000
TZOFFSETFROM:+0100
TZOFFSETTO:+0200
TZNAME:CEST
END:DAYLIGHT
END:VTIMEZONE
END:VCALENDAR