BEGIN:VCALENDAR
VERSION:2.0
PRODID:-//wp-events-plugin.com//7.2.2.1//EN
TZID:Europe/Amsterdam
X-WR-TIMEZONE:Europe/Amsterdam
BEGIN:VEVENT
UID:213@dorpshuisgaastmeer.nl
DTSTART;TZID=Europe/Amsterdam:20230327T193000
DTEND;TZID=Europe/Amsterdam:20230327T003000
DTSTAMP:20230331T095239Z
URL:https://www.dorpshuisgaastmeer.nl/events/biljartvereniging-nei-tocht-2
 023-03-27/
SUMMARY:Biljartvereniging 'Nei Tocht'
DESCRIPTION:
END:VEVENT
BEGIN:VTIMEZONE
TZID:Europe/Amsterdam
X-LIC-LOCATION:Europe/Amsterdam
BEGIN:DAYLIGHT
DTSTART:20230326T030000
TZOFFSETFROM:+0100
TZOFFSETTO:+0200
TZNAME:CEST
END:DAYLIGHT
END:VTIMEZONE
END:VCALENDAR