BEGIN:VCALENDAR
VERSION:2.0
PRODID:-//wp-events-plugin.com//7.2.2.1//EN
TZID:Europe/Amsterdam
X-WR-TIMEZONE:Europe/Amsterdam
BEGIN:VEVENT
UID:1564@dorpshuisgaastmeer.nl
DTSTART;TZID=Europe/Amsterdam:20241014T190000
DTEND;TZID=Europe/Amsterdam:20241014T234500
DTSTAMP:20241213T132531Z
URL:https://www.dorpshuisgaastmeer.nl/events/biljartvereniging-nea-tocht-2
 024-10-14/
SUMMARY:Biljartvereniging 'Nea Tocht'
DESCRIPTION:
END:VEVENT
BEGIN:VTIMEZONE
TZID:Europe/Amsterdam
X-LIC-LOCATION:Europe/Amsterdam
BEGIN:DAYLIGHT
DTSTART:20240331T030000
TZOFFSETFROM:+0100
TZOFFSETTO:+0200
TZNAME:CEST
END:DAYLIGHT
END:VTIMEZONE
END:VCALENDAR