BEGIN:VCALENDAR
VERSION:2.0
PRODID:-//wp-events-plugin.com//7.2.2.1//EN
TZID:Europe/Amsterdam
X-WR-TIMEZONE:Europe/Amsterdam
BEGIN:VEVENT
UID:252@dorpshuisgaastmeer.nl
DTSTART;TZID=Europe/Amsterdam:20230513T110000
DTEND;TZID=Europe/Amsterdam:20230513T170000
DTSTAMP:20230412T131615Z
URL:https://www.dorpshuisgaastmeer.nl/events/biljarttoernooi/
SUMMARY:Biljarttoernooi
DESCRIPTION:
END:VEVENT
BEGIN:VTIMEZONE
TZID:Europe/Amsterdam
X-LIC-LOCATION:Europe/Amsterdam
BEGIN:DAYLIGHT
DTSTART:20230326T030000
TZOFFSETFROM:+0100
TZOFFSETTO:+0200
TZNAME:CEST
END:DAYLIGHT
END:VTIMEZONE
END:VCALENDAR