BEGIN:VCALENDAR
VERSION:2.0
PRODID:-//wp-events-plugin.com//7.2.2.1//EN
TZID:Europe/Amsterdam
X-WR-TIMEZONE:Europe/Amsterdam
BEGIN:VEVENT
UID:705@dorpshuisgaastmeer.nl
DTSTART;TZID=Europe/Amsterdam:20240105T150000
DTEND;TZID=Europe/Amsterdam:20240105T234500
DTSTAMP:20231215T105133Z
URL:https://www.dorpshuisgaastmeer.nl/events/biljarttoernooi-dames-en-here
 n/
SUMMARY:Biljarttoernooi dames en heren
DESCRIPTION:
END:VEVENT
BEGIN:VTIMEZONE
TZID:Europe/Amsterdam
X-LIC-LOCATION:Europe/Amsterdam
BEGIN:STANDARD
DTSTART:20231029T020000
TZOFFSETFROM:+0200
TZOFFSETTO:+0100
TZNAME:CET
END:STANDARD
END:VTIMEZONE
END:VCALENDAR