BEGIN:VCALENDAR
VERSION:2.0
PRODID:-//wp-events-plugin.com//7.2.2.1//EN
TZID:Europe/Amsterdam
X-WR-TIMEZONE:Europe/Amsterdam
BEGIN:VEVENT
UID:1274@dorpshuisgaastmeer.nl
DTSTART;TZID=Europe/Amsterdam:20231209T130000
DTEND;TZID=Europe/Amsterdam:20231209T180000
DTSTAMP:20231201T211749Z
URL:https://www.dorpshuisgaastmeer.nl/events/biljarten/
SUMMARY:Biljarten
DESCRIPTION:
END:VEVENT
BEGIN:VTIMEZONE
TZID:Europe/Amsterdam
X-LIC-LOCATION:Europe/Amsterdam
BEGIN:STANDARD
DTSTART:20231029T020000
TZOFFSETFROM:+0200
TZOFFSETTO:+0100
TZNAME:CET
END:STANDARD
END:VTIMEZONE
END:VCALENDAR