BEGIN:VCALENDAR
VERSION:2.0
PRODID:-//wp-events-plugin.com//7.2.2.1//EN
TZID:Europe/Amsterdam
X-WR-TIMEZONE:Europe/Amsterdam
BEGIN:VEVENT
UID:1257@dorpshuisgaastmeer.nl
DTSTART;TZID=Europe/Amsterdam:20231026T190000
DTEND;TZID=Europe/Amsterdam:20231026T233000
DTSTAMP:20230913T092214Z
URL:https://www.dorpshuisgaastmeer.nl/events/biljart-liber-3e-klas/
SUMMARY:Biljart libre 3e klas
DESCRIPTION:
END:VEVENT
BEGIN:VTIMEZONE
TZID:Europe/Amsterdam
X-LIC-LOCATION:Europe/Amsterdam
BEGIN:DAYLIGHT
DTSTART:20230326T030000
TZOFFSETFROM:+0100
TZOFFSETTO:+0200
TZNAME:CEST
END:DAYLIGHT
END:VTIMEZONE
END:VCALENDAR