BEGIN:VCALENDAR
VERSION:2.0
PRODID:-//wp-events-plugin.com//7.2.2.1//EN
TZID:Europe/Amsterdam
X-WR-TIMEZONE:Europe/Amsterdam
BEGIN:VEVENT
UID:935@dorpshuisgaastmeer.nl
DTSTART;TZID=Europe/Amsterdam:20231108T100000
DTEND;TZID=Europe/Amsterdam:20231108T113000
DTSTAMP:20230810T093714Z
URL:https://www.dorpshuisgaastmeer.nl/events/bijeenkomst-oer-de-gaastmar-3
 /
SUMMARY:Bijeenkomst 'Oer de Gaastmar'
DESCRIPTION:
END:VEVENT
BEGIN:VTIMEZONE
TZID:Europe/Amsterdam
X-LIC-LOCATION:Europe/Amsterdam
BEGIN:STANDARD
DTSTART:20231029T020000
TZOFFSETFROM:+0200
TZOFFSETTO:+0100
TZNAME:CET
END:STANDARD
END:VTIMEZONE
END:VCALENDAR