BEGIN:VCALENDAR
VERSION:2.0
PRODID:-//wp-events-plugin.com//7.2.2.1//EN
TZID:Europe/Amsterdam
X-WR-TIMEZONE:Europe/Amsterdam
BEGIN:VEVENT
UID:1540@dorpshuisgaastmeer.nl
DTSTART;TZID=Europe/Amsterdam:20241111T193000
DTEND;TZID=Europe/Amsterdam:20241111T220000
DTSTAMP:20241016T090859Z
URL:https://www.dorpshuisgaastmeer.nl/events/bestuursvergadering-dorpsbela
 ng/
SUMMARY:Bestuursvergadering Dorpsbelang
DESCRIPTION:
END:VEVENT
BEGIN:VTIMEZONE
TZID:Europe/Amsterdam
X-LIC-LOCATION:Europe/Amsterdam
BEGIN:STANDARD
DTSTART:20241027T020000
TZOFFSETFROM:+0200
TZOFFSETTO:+0100
TZNAME:CET
END:STANDARD
END:VTIMEZONE
END:VCALENDAR