BEGIN:VCALENDAR
VERSION:2.0
PRODID:-//wp-events-plugin.com//7.2.2.1//EN
TZID:Europe/Amsterdam
X-WR-TIMEZONE:Europe/Amsterdam
BEGIN:VEVENT
UID:1542@dorpshuisgaastmeer.nl
DTSTART;TZID=Europe/Amsterdam:20250516T200000
DTEND;TZID=Europe/Amsterdam:20250516T234500
DTSTAMP:20241021T111655Z
URL:https://www.dorpshuisgaastmeer.nl/events/10-jarig-bestaan-van-it-gaast
 marder-skutsje/
SUMMARY:10-jarig bestaan van It Gaastmarder Skûtsje
DESCRIPTION:
END:VEVENT
BEGIN:VTIMEZONE
TZID:Europe/Amsterdam
X-LIC-LOCATION:Europe/Amsterdam
BEGIN:DAYLIGHT
DTSTART:20250330T030000
TZOFFSETFROM:+0100
TZOFFSETTO:+0200
TZNAME:CEST
END:DAYLIGHT
END:VTIMEZONE
END:VCALENDAR